BEGIN:VCALENDAR
VERSION:2.0
PRODID:-//এম. এ. মান্নান মানিক স্পোর্টস একাডেমি - ECPv6.14.2//NONSGML v1.0//EN
CALSCALE:GREGORIAN
METHOD:PUBLISH
X-ORIGINAL-URL:https://mammsa.com
X-WR-CALDESC:Events for এম. এ. মান্নান মানিক স্পোর্টস একাডেমি
REFRESH-INTERVAL;VALUE=DURATION:PT1H
X-Robots-Tag:noindex
X-PUBLISHED-TTL:PT1H
BEGIN:VTIMEZONE
TZID:Asia/Dhaka
BEGIN:STANDARD
TZOFFSETFROM:+0600
TZOFFSETTO:+0600
TZNAME:+06
DTSTART:20250101T000000
END:STANDARD
END:VTIMEZONE
BEGIN:VTIMEZONE
TZID:UTC
BEGIN:STANDARD
TZOFFSETFROM:+0000
TZOFFSETTO:+0000
TZNAME:UTC
DTSTART:20260101T000000
END:STANDARD
END:VTIMEZONE
BEGIN:VEVENT
DTSTART;VALUE=DATE:20251001
DTEND;VALUE=DATE:20261101
DTSTAMP:20260422T164546
CREATED:20250729T114455Z
LAST-MODIFIED:20250729T115014Z
UID:310-1759276800-1793491199@mammsa.com
SUMMARY:Pakundia T20 Cricket League (Under 17) – Inter Union	October 2025
DESCRIPTION:Get ready for high-energy cricket action as the Pakundia T20 Cricket League – Under 17 (Inter Union) kicks off this October 2025! \nThis exciting tournament brings together the best young talents from all unions of Pakundia\, competing in a fast-paced T20 format. It’s not just a game – it’s a battle of pride\, teamwork\, and rising stars. \n🎯 Event Highlights: \n\n\n👦 Eligibility: Players aged under 17 \n\n\n🏟️ Format: Inter-Union T20 matches \n\n\n🧢 Talent scouting by coaches and selectors \n\n\n🏆 Awards for Best Player\, Best Batsman\, Best Bowler & Emerging Talent \n\n\n🌟 A platform to enter advanced training and competitive cricket pathways \n\n\nThis league aims to promote youth cricket at the grassroots level\, foster sportsmanship\, and provide an opportunity for young cricketers to showcase their potential in front of selectors and local fans. \nLet the best team win – and may new cricketing heroes be born!
URL:https://mammsa.com/event/pakundia-t20-cricket-league-under-17-inter-unionoctober-2025/
END:VEVENT
BEGIN:VEVENT
DTSTART;VALUE=DATE:20251101
DTEND;VALUE=DATE:20261201
DTSTAMP:20260422T164546
CREATED:20250729T114615Z
LAST-MODIFIED:20250729T115128Z
UID:312-1761955200-1796083199@mammsa.com
SUMMARY:Pakundia T15 Cricket League – Inter Union	November 2025
DESCRIPTION:Get ready for the ultimate cricket showdown! The Pakundia T15 Cricket League – Inter Union is set to bring non-stop action this November 2025. \nThis high-energy 15-over tournament will feature top cricketing talents from all unions of Pakundia\, regardless of age. It’s a celebration of local passion\, competitive spirit\, and community pride. \n🎯 Event Highlights: \n\n\n👥 Open to all age groups \n\n\n🏏 Format: T15 – 15 overs per team \n\n\n🏟️ Inter Union competition \n\n\n🏆 Awards for top teams and individual performers \n\n\n🎖️ Special recognition for Best Player\, Best Batsman\, Best Bowler & Fair Play Team \n\n\nWhether you’re a seasoned player or a rising star\, this league is your chance to represent your union\, show your skills\, and be part of something big. \nOne game. One dream. One Pakundia. Let the best union rise!
URL:https://mammsa.com/event/pakundia-t15-cricket-league-inter-unionnovember-2025/
END:VEVENT
BEGIN:VEVENT
DTSTART;VALUE=DATE:20260201
DTEND;VALUE=DATE:20260401
DTSTAMP:20260422T164546
CREATED:20250729T115633Z
LAST-MODIFIED:20250729T115633Z
UID:320-1769904000-1775001599@mammsa.com
SUMMARY:Pakundia T10 Franchise Cricket League – Inter Union
DESCRIPTION:Cricket meets entertainment! The Pakundia T10 Franchise Cricket League is set to light up the field with explosive action\, fast-paced matches\, and fierce inter-union rivalries. \nScheduled for February–March 2025\, this high-energy T10 tournament brings a franchise-style competition model to the heart of Pakundia — where each union represents its own team under a unique identity. \n🎯 League Features: \n\n\n🔥 T10 Format: 10 overs per side – fast\, thrilling\, and full of excitement \n\n\n🏏 Franchise-style teams representing each union \n\n\n👥 Open to all players (no age limit) \n\n\n🧢 Team auctions or selections (based on organizing format) \n\n\n🏆 Attractive prizes for Champions\, Runners-up\, and Individual Performers \n\n\n🌟 Awards: Best Player\, Power Hitter\, Best Bowler\, Game Changer & more \n\n\n🎤 Live commentary\, local fan engagement & exciting matchday atmosphere \n\n\nThis league aims to redefine local cricket with professional flair and community spirit — giving players\, fans\, and organizers a tournament to remember. \nShort format. Big impact. Let the union pride roar!
URL:https://mammsa.com/event/pakundia-t10-franchise-cricket-league-inter-union/
END:VEVENT
END:VCALENDAR