BEGIN:VCALENDAR
VERSION:2.0
PRODID:-//এম. এ. মান্নান মানিক স্পোর্টস একাডেমি - ECPv6.14.2//NONSGML v1.0//EN
CALSCALE:GREGORIAN
METHOD:PUBLISH
X-WR-CALNAME:এম. এ. মান্নান মানিক স্পোর্টস একাডেমি
X-ORIGINAL-URL:https://mammsa.com
X-WR-CALDESC:Events for এম. এ. মান্নান মানিক স্পোর্টস একাডেমি
REFRESH-INTERVAL;VALUE=DURATION:PT1H
X-Robots-Tag:noindex
X-PUBLISHED-TTL:PT1H
BEGIN:VTIMEZONE
TZID:UTC
BEGIN:STANDARD
TZOFFSETFROM:+0000
TZOFFSETTO:+0000
TZNAME:UTC
DTSTART:20260101T000000
END:STANDARD
END:VTIMEZONE
BEGIN:VTIMEZONE
TZID:Asia/Dhaka
BEGIN:STANDARD
TZOFFSETFROM:+0600
TZOFFSETTO:+0600
TZNAME:+06
DTSTART:20250101T000000
END:STANDARD
END:VTIMEZONE
BEGIN:VEVENT
DTSTART;VALUE=DATE:20260201
DTEND;VALUE=DATE:20260401
DTSTAMP:20260422T120005
CREATED:20250729T115633Z
LAST-MODIFIED:20250729T115633Z
UID:320-1769904000-1775001599@mammsa.com
SUMMARY:Pakundia T10 Franchise Cricket League – Inter Union
DESCRIPTION:Cricket meets entertainment! The Pakundia T10 Franchise Cricket League is set to light up the field with explosive action\, fast-paced matches\, and fierce inter-union rivalries. \nScheduled for February–March 2025\, this high-energy T10 tournament brings a franchise-style competition model to the heart of Pakundia — where each union represents its own team under a unique identity. \n🎯 League Features: \n\n\n🔥 T10 Format: 10 overs per side – fast\, thrilling\, and full of excitement \n\n\n🏏 Franchise-style teams representing each union \n\n\n👥 Open to all players (no age limit) \n\n\n🧢 Team auctions or selections (based on organizing format) \n\n\n🏆 Attractive prizes for Champions\, Runners-up\, and Individual Performers \n\n\n🌟 Awards: Best Player\, Power Hitter\, Best Bowler\, Game Changer & more \n\n\n🎤 Live commentary\, local fan engagement & exciting matchday atmosphere \n\n\nThis league aims to redefine local cricket with professional flair and community spirit — giving players\, fans\, and organizers a tournament to remember. \nShort format. Big impact. Let the union pride roar!
URL:https://mammsa.com/event/pakundia-t10-franchise-cricket-league-inter-union/
END:VEVENT
BEGIN:VEVENT
DTSTART;VALUE=DATE:20251215
DTEND;VALUE=DATE:20260101
DTSTAMP:20260422T120005
CREATED:20250729T115449Z
LAST-MODIFIED:20250729T115449Z
UID:318-1765756800-1767225599@mammsa.com
SUMMARY:Pakundia Inter College Cricket Championship
DESCRIPTION:Get ready for the biggest collegiate cricket event in the region – the Pakundia Inter College Cricket Championship is coming this December 2025! \nColleges from all over Pakundia will come together to compete in this thrilling tournament that celebrates youth\, sportsmanship\, and the spirit of cricket. It’s more than a championship — it’s a platform for students to shine\, both on and off the field. \n🎯 Tournament Highlights: \n\n\n🏫 Participation: Open to all colleges in Pakundia \n\n\n🏏 Format: Competitive limited-over matches (T20/T15) \n\n\n🧢 Team-based and individual prizes \n\n\n🏆 Trophies\, medals & certificates \n\n\n🌟 Player recognition: Best Player\, Best Batsman\, Best Bowler\, and Best Fielder \n\n\n🎯 Opportunity to get selected for future district/regional teams \n\n\nThe tournament aims to nurture young talent and encourage a healthy sporting culture among college students in Pakundia. \nWhich college will take home the trophy? The chase for glory begins this December!
URL:https://mammsa.com/event/pakundia-inter-college-cricket-championship/
END:VEVENT
BEGIN:VEVENT
DTSTART;VALUE=DATE:20251201
DTEND;VALUE=DATE:20260101
DTSTAMP:20260422T120005
CREATED:20250729T115241Z
LAST-MODIFIED:20250729T115317Z
UID:315-1764547200-1767225599@mammsa.com
SUMMARY:Pakundia Inter School Cricket Championship
DESCRIPTION:The battle for school pride begins! Presenting the Pakundia Inter School Cricket Championship — a dynamic platform where schools from across Pakundia will compete for the ultimate cricketing glory. \nThis championship aims to promote sportsmanship\, discipline\, and teamwork among young cricketers while providing them with the opportunity to showcase their talents at a competitive level. \n🎯 Key Features: \n\n\n🏫 Participation from schools all over Pakundia \n\n\n👦 Student players (age-specific categories optional) \n\n\n🏏 Standard match format with official rules \n\n\n🏆 Trophies and medals for Champions\, Runners-up\, and Top Performers \n\n\n🎖️ Awards for Best Batsman\, Bowler\, Fielder\, and Emerging Player \n\n\n👀 Scouting opportunity for future training camps and leagues \n\n\nThis is more than just a tournament — it’s a celebration of youth cricket\, school spirit\, and the future stars of the game. \nLet your school make history. Let the game begin!
URL:https://mammsa.com/event/pakundia-inter-school-cricket-championship/
END:VEVENT
BEGIN:VEVENT
DTSTART;VALUE=DATE:20250901
DTEND;VALUE=DATE:20251001
DTSTAMP:20260422T120005
CREATED:20250729T113907Z
LAST-MODIFIED:20250729T114922Z
UID:304-1756684800-1759276799@mammsa.com
SUMMARY:Talent Hunt Under 17 age group
DESCRIPTION:Are you ready to showcase your cricketing skills and take your first step towards a professional career? Our Under-17 Talent Hunt is your chance to shine! \n📅 Event Date: September 2025📍 Eligibility: Boys aged below 17 years🎯 Objective: To discover and nurture young cricketing talents from across the country \nThis initiative is designed to identify passionate and skilled young cricketers who dream of playing at higher levels. Selected participants will receive: \n\n\n🎓 Expert coaching by professional trainers \n\n\n🏟️ Opportunities to play in competitive matches \n\n\n📋 Performance evaluation and feedback \n\n\n🏆 A chance to be shortlisted for advanced cricket training programs \n\n\nWhether you’re a batsman\, bowler\, or all-rounder — this is your platform to stand out! \nRegistrations will open soon. Stay tuned for more updates!
URL:https://mammsa.com/event/talent-hunt-under-17-age-group/
ATTACH;FMTTYPE=image/jpeg:https://mammsa.com/wp-content/uploads/2025/07/assignment-name-in-brief_94990228-6813-11e9-9706-c5428a3382f6-2.jpeg
END:VEVENT
END:VCALENDAR